BEGIN:VCALENDAR
VERSION:2.0
PRODID:-//Catholic Gatherings - ECPv6.15.17.1//NONSGML v1.0//EN
CALSCALE:GREGORIAN
METHOD:PUBLISH
X-WR-CALNAME:Catholic Gatherings
X-ORIGINAL-URL:https://catholicgatherings.org
X-WR-CALDESC:Events for Catholic Gatherings
REFRESH-INTERVAL;VALUE=DURATION:PT1H
X-Robots-Tag:noindex
X-PUBLISHED-TTL:PT1H
BEGIN:VTIMEZONE
TZID:America/New_York
BEGIN:DAYLIGHT
TZOFFSETFROM:-0500
TZOFFSETTO:-0400
TZNAME:EDT
DTSTART:20250309T070000
END:DAYLIGHT
BEGIN:STANDARD
TZOFFSETFROM:-0400
TZOFFSETTO:-0500
TZNAME:EST
DTSTART:20251102T060000
END:STANDARD
BEGIN:DAYLIGHT
TZOFFSETFROM:-0500
TZOFFSETTO:-0400
TZNAME:EDT
DTSTART:20260308T070000
END:DAYLIGHT
BEGIN:STANDARD
TZOFFSETFROM:-0400
TZOFFSETTO:-0500
TZNAME:EST
DTSTART:20261101T060000
END:STANDARD
BEGIN:DAYLIGHT
TZOFFSETFROM:-0500
TZOFFSETTO:-0400
TZNAME:EDT
DTSTART:20270314T070000
END:DAYLIGHT
BEGIN:STANDARD
TZOFFSETFROM:-0400
TZOFFSETTO:-0500
TZNAME:EST
DTSTART:20271107T060000
END:STANDARD
END:VTIMEZONE
BEGIN:VEVENT
DTSTART;TZID=America/New_York:20260509T080000
DTEND;TZID=America/New_York:20260509T090000
DTSTAMP:20260423T102525
CREATED:20260306T204440Z
LAST-MODIFIED:20260306T204440Z
UID:8125-1778313600-1778317200@catholicgatherings.org
SUMMARY:Helpers of God's Precious Infants Prayer Vigil
DESCRIPTION:Peaceful\, prayerful Rosary Procession to a nearby abortion facility following a pro-life Mass at St. Charles Borromeo parish in Downtown Brooklyn\, NY
URL:https://catholicgatherings.org/event/helpers-of-gods-precious-infants-prayer-vigil-4/
LOCATION:St. Charles Borrowed Parish\, 31 Sidney Place\, Brooklyn\, NY\, 11201\, United States
CATEGORIES:Marriage & Family/ Respect Life
ATTACH;FMTTYPE=image/jpeg:https://catholicgatherings.org/wp-content/uploads/2026/03/IMG_9656-1.jpg
ORGANIZER;CN="Kevin and Susan Moore":MAILTO:tubeman802004@yahoo.com
END:VEVENT
END:VCALENDAR