BEGIN:VCALENDAR
VERSION:2.0
PRODID:-//Catholic Gatherings - ECPv6.15.17.1//NONSGML v1.0//EN
CALSCALE:GREGORIAN
METHOD:PUBLISH
X-WR-CALNAME:Catholic Gatherings
X-ORIGINAL-URL:https://catholicgatherings.org
X-WR-CALDESC:Events for Catholic Gatherings
REFRESH-INTERVAL;VALUE=DURATION:PT1H
X-Robots-Tag:noindex
X-PUBLISHED-TTL:PT1H
BEGIN:VTIMEZONE
TZID:America/New_York
BEGIN:DAYLIGHT
TZOFFSETFROM:-0500
TZOFFSETTO:-0400
TZNAME:EDT
DTSTART:20250309T070000
END:DAYLIGHT
BEGIN:STANDARD
TZOFFSETFROM:-0400
TZOFFSETTO:-0500
TZNAME:EST
DTSTART:20251102T060000
END:STANDARD
BEGIN:DAYLIGHT
TZOFFSETFROM:-0500
TZOFFSETTO:-0400
TZNAME:EDT
DTSTART:20260308T070000
END:DAYLIGHT
BEGIN:STANDARD
TZOFFSETFROM:-0400
TZOFFSETTO:-0500
TZNAME:EST
DTSTART:20261101T060000
END:STANDARD
BEGIN:DAYLIGHT
TZOFFSETFROM:-0500
TZOFFSETTO:-0400
TZNAME:EDT
DTSTART:20270314T070000
END:DAYLIGHT
BEGIN:STANDARD
TZOFFSETFROM:-0400
TZOFFSETTO:-0500
TZNAME:EST
DTSTART:20271107T060000
END:STANDARD
END:VTIMEZONE
BEGIN:VEVENT
DTSTART;TZID=America/New_York:20260502T100000
DTEND;TZID=America/New_York:20260502T160000
DTSTAMP:20260419T225648
CREATED:20260327T212211Z
LAST-MODIFIED:20260330T182904Z
UID:9108-1777716000-1777737600@catholicgatherings.org
SUMMARY:Defensive Driving Class
DESCRIPTION:New York Safety Program Defensive Driving Class\nReduce Insurance 10% for three years.\nReduce Points on License\nProceeds Benefit Saint Bernard Catholic Academy
URL:https://catholicgatherings.org/event/defensive-driving-class-2/
LOCATION:St. Bernard Catholic Academy\, 2030 East 69th Street\, Brooklyn\, NY\, 11234\, United States
CATEGORIES:Catholic Schools: Open Houses/Other Events
ATTACH;FMTTYPE=image/jpeg:https://catholicgatherings.org/wp-content/uploads/2026/03/Msy-2-Defensie-Driving-Class.jpg
ORGANIZER;CN="Andrea Spinelli":MAILTO:angespin57@aol.com
END:VEVENT
END:VCALENDAR